BEGIN:VCALENDAR
VERSION:2.0
PRODID:-//Portland - ECPv6.15.20//NONSGML v1.0//EN
CALSCALE:GREGORIAN
METHOD:PUBLISH
X-WR-CALNAME:Portland
X-ORIGINAL-URL:https://portlandgc.com
X-WR-CALDESC:Events for Portland
REFRESH-INTERVAL;VALUE=DURATION:PT1H
X-Robots-Tag:noindex
X-PUBLISHED-TTL:PT1H
BEGIN:VTIMEZONE
TZID:UTC
BEGIN:STANDARD
TZOFFSETFROM:+0000
TZOFFSETTO:+0000
TZNAME:UTC
DTSTART:20190101T000000
END:STANDARD
END:VTIMEZONE
BEGIN:VEVENT
DTSTART;TZID=UTC:20250715T090000
DTEND;TZID=UTC:20250715T120000
DTSTAMP:20260420T075503
CREATED:20250605T120524Z
LAST-MODIFIED:20250605T120655Z
UID:1548-1752570000-1752580800@portlandgc.com
SUMMARY:Youth Golf Camp
DESCRIPTION:We’re excited to announce the return of our Youth Golf Camp at Portland Golf Club for boys and girls entering grades 1–6! \nThis year’s camp will once again be led by the talented Jay County Jr/Sr High School golf coaches\, assisted our high school golf team. It’s a great opportunity for young golfers to learn the fundamentals\, build their skills\, and have fun on the course! \nRegistration form can be found here:\nPGC Youth Golf Camp
URL:https://portlandgc.com/event/youth-golf-camp-6/
END:VEVENT
BEGIN:VEVENT
DTSTART;TZID=UTC:20230630T110000
DTEND;TZID=UTC:20230630T160000
DTSTAMP:20260420T075503
CREATED:20230613T125331Z
LAST-MODIFIED:20230613T125331Z
UID:1507-1688122800-1688140800@portlandgc.com
SUMMARY:Mayor's Outing
DESCRIPTION:
URL:https://portlandgc.com/event/mayors-outing/
END:VEVENT
BEGIN:VEVENT
DTSTART;TZID=UTC:20230625T090000
DTEND;TZID=UTC:20230625T130000
DTSTAMP:20260420T075503
CREATED:20230613T125136Z
LAST-MODIFIED:20230613T125136Z
UID:1504-1687683600-1687698000@portlandgc.com
SUMMARY:Pottkotter Open
DESCRIPTION:
URL:https://portlandgc.com/event/pottkotter-open-3/
END:VEVENT
BEGIN:VEVENT
DTSTART;TZID=UTC:20230616T130000
DTEND;TZID=UTC:20230616T170000
DTSTAMP:20260420T075503
CREATED:20230613T124902Z
LAST-MODIFIED:20230613T125352Z
UID:1499-1686920400-1686934800@portlandgc.com
SUMMARY:Youth for Christ Outing
DESCRIPTION:
URL:https://portlandgc.com/event/youth-for-christ-golf-outing/
END:VEVENT
BEGIN:VEVENT
DTSTART;TZID=UTC:20220828T080000
DTEND;TZID=UTC:20220828T080000
DTSTAMP:20260420T075503
CREATED:20220729T191835Z
LAST-MODIFIED:20220729T191835Z
UID:1469-1661673600-1661673600@portlandgc.com
SUMMARY:J. Valentine/Holy Trinity Outing
DESCRIPTION:
URL:https://portlandgc.com/event/j-valentine-holy-trinity-outing/
END:VEVENT
BEGIN:VEVENT
DTSTART;TZID=UTC:20220827T080000
DTEND;TZID=UTC:20220827T080000
DTSTAMP:20260420T075503
CREATED:20220729T191910Z
LAST-MODIFIED:20220729T191910Z
UID:1472-1661587200-1661587200@portlandgc.com
SUMMARY:Fort Recovery MAC Invitational
DESCRIPTION:
URL:https://portlandgc.com/event/fort-recovery-mac-invitational/
END:VEVENT
BEGIN:VEVENT
DTSTART;TZID=UTC:20220826T120000
DTEND;TZID=UTC:20220826T120000
DTSTAMP:20260420T075503
CREATED:20220729T191747Z
LAST-MODIFIED:20220729T191747Z
UID:1466-1661515200-1661515200@portlandgc.com
SUMMARY:Jay County Basketball Outing
DESCRIPTION:
URL:https://portlandgc.com/event/jay-county-basketball-outing/
END:VEVENT
BEGIN:VEVENT
DTSTART;TZID=UTC:20220820T130000
DTEND;TZID=UTC:20220820T130000
DTSTAMP:20260420T075503
CREATED:20220729T191711Z
LAST-MODIFIED:20220729T191711Z
UID:1463-1661000400-1661000400@portlandgc.com
SUMMARY:Jay County Special Olympics
DESCRIPTION:
URL:https://portlandgc.com/event/jay-county-special-olympics/
END:VEVENT
BEGIN:VEVENT
DTSTART;TZID=UTC:20220813T090000
DTEND;TZID=UTC:20220813T090000
DTSTAMP:20260420T075503
CREATED:20220729T191633Z
LAST-MODIFIED:20220729T191633Z
UID:1460-1660381200-1660381200@portlandgc.com
SUMMARY:Jay County Swine Club
DESCRIPTION:
URL:https://portlandgc.com/event/jay-county-swine-club/
END:VEVENT
BEGIN:VEVENT
DTSTART;TZID=UTC:20220806T130000
DTEND;TZID=UTC:20220806T130000
DTSTAMP:20260420T075503
CREATED:20220729T191602Z
LAST-MODIFIED:20220729T191602Z
UID:1457-1659790800-1659790800@portlandgc.com
SUMMARY:Fort Recovery Alumni Football Outing
DESCRIPTION:
URL:https://portlandgc.com/event/fort-recovery-alumni-football-outing/
END:VEVENT
BEGIN:VEVENT
DTSTART;TZID=UTC:20220726T090000
DTEND;TZID=UTC:20220726T120000
DTSTAMP:20260420T075503
CREATED:20220611T184249Z
LAST-MODIFIED:20220611T190144Z
UID:1434-1658826000-1658836800@portlandgc.com
SUMMARY:Youth Golf Camp
DESCRIPTION:
URL:https://portlandgc.com/event/youth-golf-camp-5/
END:VEVENT
BEGIN:VEVENT
DTSTART;TZID=UTC:20220725T090000
DTEND;TZID=UTC:20220725T110000
DTSTAMP:20260420T075503
CREATED:20220611T184121Z
LAST-MODIFIED:20220611T190216Z
UID:1431-1658739600-1658746800@portlandgc.com
SUMMARY:Youth Golf Camp
DESCRIPTION:
URL:https://portlandgc.com/event/youth-golf-camp-4/
END:VEVENT
BEGIN:VEVENT
DTSTART;TZID=UTC:20220626T090000
DTEND;TZID=UTC:20220626T090000
DTSTAMP:20260420T075503
CREATED:20220528T190612Z
LAST-MODIFIED:20220528T190612Z
UID:1428-1656234000-1656234000@portlandgc.com
SUMMARY:Pottkotter Open
DESCRIPTION:
URL:https://portlandgc.com/event/pottkotter-open-2/
END:VEVENT
BEGIN:VEVENT
DTSTART;TZID=UTC:20220624T090000
DTEND;TZID=UTC:20220624T090000
DTSTAMP:20260420T075503
CREATED:20220528T190539Z
LAST-MODIFIED:20220528T190539Z
UID:1425-1656061200-1656061200@portlandgc.com
SUMMARY:JR Manufacturing Outing
DESCRIPTION:
URL:https://portlandgc.com/event/jr-manufacturing-outing/
END:VEVENT
BEGIN:VEVENT
DTSTART;TZID=UTC:20220603T090000
DTEND;TZID=UTC:20220603T090000
DTSTAMP:20260420T075503
CREATED:20220528T190500Z
LAST-MODIFIED:20220528T190500Z
UID:1422-1654246800-1654246800@portlandgc.com
SUMMARY:Matt Aker Memorial Outing
DESCRIPTION:
URL:https://portlandgc.com/event/matt-aker-memorial-outing-2/
END:VEVENT
BEGIN:VEVENT
DTSTART;TZID=UTC:20220526T163000
DTEND;TZID=UTC:20220526T163000
DTSTAMP:20260420T075503
CREATED:20220424T191715Z
LAST-MODIFIED:20220424T191715Z
UID:1409-1653582600-1653582600@portlandgc.com
SUMMARY:Jay County Boys Golf vs Adams Central
DESCRIPTION:
URL:https://portlandgc.com/event/jay-county-boys-golf-vs-adams-central/
END:VEVENT
BEGIN:VEVENT
DTSTART;TZID=UTC:20220524T163000
DTEND;TZID=UTC:20220524T163000
DTSTAMP:20260420T075503
CREATED:20220424T191644Z
LAST-MODIFIED:20220424T191644Z
UID:1405-1653409800-1653409800@portlandgc.com
SUMMARY:Jay County Boys Golf vs Union City
DESCRIPTION:
URL:https://portlandgc.com/event/jay-county-boys-golf-vs-union-city/
END:VEVENT
BEGIN:VEVENT
DTSTART;TZID=UTC:20220517T163000
DTEND;TZID=UTC:20220517T163000
DTSTAMP:20260420T075503
CREATED:20220424T191824Z
LAST-MODIFIED:20220424T191824Z
UID:1415-1652805000-1652805000@portlandgc.com
SUMMARY:Jay County Junior High vs Monroe Central
DESCRIPTION:
URL:https://portlandgc.com/event/jay-county-junior-high-vs-monroe-central/
END:VEVENT
BEGIN:VEVENT
DTSTART;TZID=UTC:20220513T130000
DTEND;TZID=UTC:20220513T170000
DTSTAMP:20260420T075503
CREATED:20220424T192004Z
LAST-MODIFIED:20220424T192004Z
UID:1418-1652446800-1652461200@portlandgc.com
SUMMARY:Jay County Community Center Outing
DESCRIPTION:All carts must be in my 11:30 and course will open back up for play at 6:00
URL:https://portlandgc.com/event/jay-county-community-center-outing-2/
END:VEVENT
BEGIN:VEVENT
DTSTART;TZID=UTC:20220505T163000
DTEND;TZID=UTC:20220505T163000
DTSTAMP:20260420T075503
CREATED:20220424T191750Z
LAST-MODIFIED:20220424T191750Z
UID:1412-1651768200-1651768200@portlandgc.com
SUMMARY:Jay County Junior High vs McCulloch
DESCRIPTION:
URL:https://portlandgc.com/event/jay-county-junior-high-vs-mcculloch/
END:VEVENT
BEGIN:VEVENT
DTSTART;TZID=UTC:20220503T173000
DTEND;TZID=UTC:20220503T173000
DTSTAMP:20260420T075503
CREATED:20220424T191615Z
LAST-MODIFIED:20220424T191615Z
UID:1403-1651599000-1651599000@portlandgc.com
SUMMARY:Jay County Boys Golf vs Heritage/Woodlan
DESCRIPTION:
URL:https://portlandgc.com/event/jay-county-boys-golf-vs-heritage-woodlan/
END:VEVENT
BEGIN:VEVENT
DTSTART;TZID=UTC:20200827T170000
DTEND;TZID=UTC:20200827T170000
DTSTAMP:20260420T075503
CREATED:20200719T190325Z
LAST-MODIFIED:20200719T190325Z
UID:1254-1598547600-1598547600@portlandgc.com
SUMMARY:Jay County Girls Golf
DESCRIPTION:
URL:https://portlandgc.com/event/jay-county-girls-golf-6/
END:VEVENT
BEGIN:VEVENT
DTSTART;TZID=UTC:20200827T163000
DTEND;TZID=UTC:20200827T163000
DTSTAMP:20260420T075503
CREATED:20200719T190358Z
LAST-MODIFIED:20200719T190358Z
UID:1257-1598545800-1598545800@portlandgc.com
SUMMARY:Fort Recovery Boys Golf
DESCRIPTION:
URL:https://portlandgc.com/event/fort-recovery-boys-golf-5/
END:VEVENT
BEGIN:VEVENT
DTSTART;TZID=UTC:20200825T163000
DTEND;TZID=UTC:20200825T163000
DTSTAMP:20260420T075503
CREATED:20200719T190241Z
LAST-MODIFIED:20200719T190241Z
UID:1251-1598373000-1598373000@portlandgc.com
SUMMARY:Fort Recovery Boys Golf
DESCRIPTION:
URL:https://portlandgc.com/event/fort-recovery-boys-golf-4/
END:VEVENT
BEGIN:VEVENT
DTSTART;TZID=UTC:20200825T163000
DTEND;TZID=UTC:20200825T163000
DTSTAMP:20260420T075503
CREATED:20200719T190202Z
LAST-MODIFIED:20200719T190202Z
UID:1248-1598373000-1598373000@portlandgc.com
SUMMARY:Jay County Girls Golf
DESCRIPTION:
URL:https://portlandgc.com/event/jay-county-girls-golf-5/
END:VEVENT
BEGIN:VEVENT
DTSTART;TZID=UTC:20200824T163000
DTEND;TZID=UTC:20200824T163000
DTSTAMP:20260420T075503
CREATED:20200719T190020Z
LAST-MODIFIED:20200719T190020Z
UID:1245-1598286600-1598286600@portlandgc.com
SUMMARY:Fort Recovery Girls Golf
DESCRIPTION:
URL:https://portlandgc.com/event/fort-recovery-girls-golf-2/
END:VEVENT
BEGIN:VEVENT
DTSTART;TZID=UTC:20200824T163000
DTEND;TZID=UTC:20200824T163000
DTSTAMP:20260420T075503
CREATED:20200719T185934Z
LAST-MODIFIED:20200719T185934Z
UID:1242-1598286600-1598286600@portlandgc.com
SUMMARY:Jay County Girls Golf
DESCRIPTION:
URL:https://portlandgc.com/event/jay-county-girls-golf-4/
END:VEVENT
BEGIN:VEVENT
DTSTART;TZID=UTC:20200821T110000
DTEND;TZID=UTC:20200821T173000
DTSTAMP:20260420T075503
CREATED:20200719T185712Z
LAST-MODIFIED:20200719T185712Z
UID:1239-1598007600-1598031000@portlandgc.com
SUMMARY:Jay County Community Center Outing
DESCRIPTION:
URL:https://portlandgc.com/event/jay-county-community-center-outing/
END:VEVENT
BEGIN:VEVENT
DTSTART;TZID=UTC:20200820T163000
DTEND;TZID=UTC:20200820T163000
DTSTAMP:20260420T075503
CREATED:20200719T185559Z
LAST-MODIFIED:20200719T185559Z
UID:1236-1597941000-1597941000@portlandgc.com
SUMMARY:Fort Recovery Boys Golf
DESCRIPTION:
URL:https://portlandgc.com/event/fort-recovery-boys-golf-3/
END:VEVENT
BEGIN:VEVENT
DTSTART;TZID=UTC:20200817T100000
DTEND;TZID=UTC:20200817T100000
DTSTAMP:20260420T075503
CREATED:20200719T185502Z
LAST-MODIFIED:20200719T185502Z
UID:1233-1597658400-1597658400@portlandgc.com
SUMMARY:Fort Recovery Girls Golf
DESCRIPTION:
URL:https://portlandgc.com/event/fort-recovery-girls-golf/
END:VEVENT
END:VCALENDAR